{
 "documentInfo": {
  "Category": "",
  "Keywords": "Orthos,Aerial,photography",
  "Version": "3.6.0",
  "Comments": "Most Current Aerial Photography. Photo acquisition January 17th and 21st 2024 for the Northern portion. The southern was acquired on January 22nd and 24th 2025. Both are 3\" pixels. Data was collected by G-Squared, L.L.C.",
  "AntialiasingMode": "Fast",
  "Title": "Parcel Viewer Public Orthos",
  "Author": "",
  "TextAntialiasingMode": "Force",
  "Subject": "This map service contains the latest ortho photography for Calhoun County."
 },
 "maxImageWidth": 4096,
 "maxRecordCount": 2000,
 "tileInfo": {
  "lods": [
   {
    "level": 0,
    "scale": 10000,
    "resolution": 8.6805555555555554
   },
   {
    "level": 1,
    "scale": 8000,
    "resolution": 6.9444444444444438
   },
   {
    "level": 2,
    "scale": 6000,
    "resolution": 5.208333333333333
   },
   {
    "level": 3,
    "scale": 4000,
    "resolution": 3.4722222222222219
   },
   {
    "level": 4,
    "scale": 2000,
    "resolution": 1.7361111111111109
   },
   {
    "level": 5,
    "scale": 1000,
    "resolution": 0.86805555555555547
   },
   {
    "level": 6,
    "scale": 500,
    "resolution": 0.43402777777777773
   }
  ],
  "origin": {
   "x": -17791600,
   "y": 21739700
  },
  "format": "JPEG",
  "compressionQuality": 75,
  "rows": 256,
  "dpi": 96,
  "spatialReference": {
   "falseM": -100000,
   "xyTolerance": 0.0032808333333333331,
   "mUnits": 10000,
   "zUnits": 10000,
   "latestWkid": 102629,
   "zTolerance": 0.001,
   "wkid": 102629,
   "xyUnits": 3048.00609601219276,
   "mTolerance": 0.001,
   "falseX": -17791600,
   "falseY": -43888000,
   "falseZ": -100000
  },
  "cols": 256
 },
 "description": "Most Current Aerial Photography. Photo acquisition January 17th and 21st 2024 for the Northern portion. The southern was acquired on January 22nd and 24th 2025. Both are 3\" pixels. Data was collected by G-Squared, L.L.C.",
 "datesInUnknownTimezone": false,
 "supportsQueryDomains": true,
 "units": "esriFeet",
 "maxSelectionCount": 2000,
 "supportedImageFormatTypes": "PNG32,PNG24,PNG,JPG,DIB,TIFF,EMF,PS,PDF,GIF,SVG,SVGZ,BMP",
 "supportsClipping": true,
 "exportTilesAllowed": true,
 "maxImageHeight": 4096,
 "tables": [],
 "supportsDatumTransformation": true,
 "cimVersion": "3.6.0",
 "supportsQueryDataElements": true,
 "layers": [
  {
   "subLayerIds": null,
   "maxScale": 0,
   "name": "Curent Ortho Imagery",
   "defaultVisibility": true,
   "id": 0,
   "minScale": 10000,
   "supportsDynamicLegends": true,
   "type": "Raster Layer",
   "parentLayerId": -1
  }
 ],
 "mapName": "ParcelOrthos",
 "minScale": 10000,
 "archivingInfo": {
  "supportsHistoricMoment": false
 },
 "spatialReference": {
  "falseM": -100000,
  "xyTolerance": 0.0032808333333333331,
  "mUnits": 10000,
  "zUnits": 10000,
  "latestWkid": 102629,
  "zTolerance": 0.001,
  "wkid": 102629,
  "xyUnits": 3048.00609601219276,
  "mTolerance": 0.001,
  "falseX": -17791600,
  "falseY": -43888000,
  "falseZ": -100000
 },
 "fullExtent": {
  "ymin": 1104161.1081739513,
  "xmin": 525654.44558293431,
  "ymax": 1270398.5633431745,
  "xmax": 783668.8291268365,
  "spatialReference": {
   "falseM": -100000,
   "xyTolerance": 0.0032808333333333331,
   "mUnits": 10000,
   "zUnits": 10000,
   "latestWkid": 102629,
   "zTolerance": 0.001,
   "wkid": 102629,
   "xyUnits": 3048.00609601219276,
   "mTolerance": 0.001,
   "falseX": -17791600,
   "falseY": -43888000,
   "falseZ": -100000
  }
 },
 "supportedExtensions": "",
 "capabilities": "Map,Query,Data",
 "supportsDynamicLayers": true,
 "maxScale": 40,
 "singleFusedMapCache": true,
 "currentVersion": 12,
 "storageInfo": {
  "storageFormat": "esriMapCacheStorageModeCompactV2",
  "packetSize": 128
 },
 "resampling": true,
 "mapUnits": {
  "uwkid": 9003
 },
 "maxExportTilesCount": 100000,
 "referenceScale": 0,
 "supportsSpatialFilter": true,
 "supportedQueryFormats": "JSON, geoJSON, PBF",
 "datumTransformations": [
  {
   "geoTransforms": [
    {
     "latestWkid": 1241,
     "transformForward": true,
     "wkid": 108001,
     "name": "NAD_1927_To_NAD_1983_NADCON"
    }
   ]
  },
  {
   "geoTransforms": [
    {
     "latestWkid": 1241,
     "transformForward": false,
     "wkid": 108001,
     "name": "NAD_1927_To_NAD_1983_NADCON"
    }
   ]
  },
  {
   "geoTransforms": [
    {
     "latestWkid": 108190,
     "transformForward": true,
     "wkid": 108190,
     "name": "WGS_1984_(ITRF00)_To_NAD_1983"
    }
   ]
  },
  {
   "geoTransforms": [
    {
     "latestWkid": 108190,
     "transformForward": false,
     "wkid": 108190,
     "name": "WGS_1984_(ITRF00)_To_NAD_1983"
    }
   ]
  }
 ],
 "initialExtent": {
  "ymin": 1124601.0523924269,
  "xmin": 513270.83680722903,
  "ymax": 1249508.9476075731,
  "xmax": 796174.05319277081,
  "spatialReference": {
   "falseM": -100000,
   "xyTolerance": 0.0032808333333333331,
   "mUnits": 10000,
   "zUnits": 10000,
   "latestWkid": 102629,
   "zTolerance": 0.001,
   "wkid": 102629,
   "xyUnits": 3048.00609601219276,
   "mTolerance": 0.001,
   "falseX": -17791600,
   "falseY": -43888000,
   "falseZ": -100000
  }
 },
 "serviceDescription": "Most Current Aerial Photography. Photo acquisition January 17th and 21st 2024 for the Northern portion. The southern was acquired on January 22nd and 24th 2025. Both are 3\" pixels. Data was collected by G-Squared, L.L.C.",
 "copyrightText": "G-Squared Photogrammetry firm",
 "supportsTimeRelation": true
}
